BEGIN:VCALENDAR
VERSION:2.0
PRODID:-//Heimatverein-Hittfeld - ECPv6.15.20//NONSGML v1.0//EN
CALSCALE:GREGORIAN
METHOD:PUBLISH
X-WR-CALNAME:Heimatverein-Hittfeld
X-ORIGINAL-URL:https://heimatverein-hittfeld.de
X-WR-CALDESC:Veranstaltungen für Heimatverein-Hittfeld
REFRESH-INTERVAL;VALUE=DURATION:PT1H
X-Robots-Tag:noindex
X-PUBLISHED-TTL:PT1H
BEGIN:VTIMEZONE
TZID:Europe/Berlin
BEGIN:DAYLIGHT
TZOFFSETFROM:+0100
TZOFFSETTO:+0200
TZNAME:CEST
DTSTART:20250330T010000
END:DAYLIGHT
BEGIN:STANDARD
TZOFFSETFROM:+0200
TZOFFSETTO:+0100
TZNAME:CET
DTSTART:20251026T010000
END:STANDARD
BEGIN:DAYLIGHT
TZOFFSETFROM:+0100
TZOFFSETTO:+0200
TZNAME:CEST
DTSTART:20260329T010000
END:DAYLIGHT
BEGIN:STANDARD
TZOFFSETFROM:+0200
TZOFFSETTO:+0100
TZNAME:CET
DTSTART:20261025T010000
END:STANDARD
BEGIN:DAYLIGHT
TZOFFSETFROM:+0100
TZOFFSETTO:+0200
TZNAME:CEST
DTSTART:20270328T010000
END:DAYLIGHT
BEGIN:STANDARD
TZOFFSETFROM:+0200
TZOFFSETTO:+0100
TZNAME:CET
DTSTART:20271031T010000
END:STANDARD
END:VTIMEZONE
BEGIN:VEVENT
DTSTART;TZID=Europe/Berlin:20260607T110000
DTEND;TZID=Europe/Berlin:20260607T110000
DTSTAMP:20260423T145350
CREATED:20260422T155158Z
LAST-MODIFIED:20260422T155631Z
UID:888-1780830000-1780830000@heimatverein-hittfeld.de
SUMMARY:Frühjahrsputz 2026
DESCRIPTION:Liebe Mitglieder des Heimatvereines Hittfeld u. Umg. e. V. \, \nSie sind herzlichst eingeladen\, bei der gemeinsamen Frühjahrsputz-Aktion mitzumachen.\nDamit genügend Zangen\, Warnwesten\, Handschuhe\, Eimer und Müllsäcke vorhanden sind\, bitten wir um kurze Rückmeldung bis zum 31.05.2026 unter dwi@web.de \nStart um 11.00 Uhr\, Ende um 13.00 Uhr. \nTreffpunkt:\nSonntag\, 07.06.2026 bei Familie Wittern in der Heinrich-Heine-Straße 9a. \nWir freuen uns über viele tatkräftige Unterstützerinnen und Unterstützer!
URL:https://heimatverein-hittfeld.de/event/fruehjahrsputz-2026/
LOCATION:Treffpunkt Hittfeld\, Am Göhlenbach 11\, Seevetal\, 21218
ATTACH;FMTTYPE=image/png:https://heimatverein-hittfeld.de/wp-content/uploads/2026/04/fruehjahrsputz-2026.png
END:VEVENT
END:VCALENDAR